Workbook

Sheet Consideraciones
C2: CONGRESO DEL ESTADO DE VERACRUZ
C3: Secretaría de Fiscalización
C4: Dirección de Auditoría y Revisión Financiera
C5: Departamento de Auditoría y Análisis de la Cuenta Pública Departamento de Capacitación, Asesoría, Revisión y Supervisión de Municipios
C7: Consideraciones para el llenado de los Formatos del Proyecto de Ley de Ingresos 2026
B8: N° | C8: Descripción
B9: 1 | C9: Los municipios que cuentan con Código Hacendario Propio, tendrán que atender lo establecido en los mismos, los que no atenderán lo dispuesto en el Código Hacendario Municipal para el Estado de Veracruz de Ignacio de la Llave.
B10: 2 | C10: Los formatos ya incluyen formulas para facilitar el llenado de la información, por lo que se sugiere no moverlos, así mismo se encuentran configurados para impresión; sin embargo en aquellos casos que deba desagregar más la información o cuando se requiera por algún caso especifico del Ayuntamiento, podrá solicitar previamente la autorización.
B11: 3 | C11: No eliminar filas aunque no aplique.
B12: 4 | C12: No eliminar formulas ni autoreferencia, si detecta un error en fórmula, deberá reportarlo para su atención.
B13: 5 | C13: Las cifras se deberán llenar en pesos incluyendo centavos.
B14: 6 | C14: No dejar ningún espacio de cifras en blanco (cuando no aplique poner ceros).
B15: 7 | C15: Iniciar el llenado de los formatos por el I05 Concentrado Estadistico de Ingresos Armonizado 2024-2025 e I03 Calendario de Ingresos de Ingresos Base Mensual, ya que de estos se obtendran los datos para el resto de los formatos.
B16: 8 | C16: Posteriormente al llenado de los formato I05 e I03, verificar que las cifras respectivas correspondan a las que aparecen en el resto de formatos.
B17: 9 | C17: La impresión se deberá de realizar al máximo nivel de desagregación y verifique que presenten completo el reporte (no cortado)
B18: 10 | C18: Cualquier duda o comentario sobre posibles errores en el archivo o el llenado de los formatos, comunicarse al Departamento de Capacitación, Asesoría, Revisión y Supervisión a Municipios en el tel (228) 842 0500 exts. 3036, 3040 y 3171.
B19: 11 | C19: En la entrega de su proyecto de Ley de Ingresos se deberán presentar en la totalidad lo siguiente: 1. Oficio de remisión firmado por el Alcalde y dirigido a: Dip. Naomí Edith Gómez Santos Presidenta de la Mesa Directiva de la LXVII Legislatura del Congreso del Estado de Veracruz y con atención a: L.C. Alma Leticia Patiño Gabriel Secretaria de Fiscalización 2. En el oficio se deberá indicar: * Numero de oficio * Fecha del oficio * Documentos a entregar: 1.Proyecto de Ley de Ingresos, 2.Presupuesto de Egresos y 3.Plantilla de Personal. * Acta de Cabildo original (por lo menos un juego original completo) y/o certificada por el Secretario del Ayuntamiento, donde se aprueba: "el Proyecto de Ley de Ingresos, Presupuesto de Egresos y Plantilla de Personal, todos del ejercicio 2026, y su envío al Congreso del Estado", los documentos deben estar firmados por todos los ediles; 3. Tres juegos, de los cuales, por lo menos uno deberá ser original y dos certificados, todos deben ser foliados (todas las páginas incluyendo en blanco y separadores, el oficio, el acta y todos los formatos), ordenados de la siguiente manera: Proyecto de Ley de Ingresos, Presupuesto de Egresos y la Plantilla de Personal. 4. Una unidad USB de almacenamiento, que contenga el Proyecto de Ley de Ingresos, Presupuesto de Egresos y Plantilla de Personal escaneados del original remitido en archivo PDF, asi como el Excel de los mismos .
B20: 12 | C20: En caso de que, en el Proyecto de Ley de Ingresos, falten formatos, se solicitarán vía oficial para entregarse en un plazo máximo de 3 días hábiles, ya que es necesario contar con el total de documentos para elaborar los dictámenes correspondientes a dichas leyes.
... B22: 14 | C22: Por último se les recuerda que el correcto llenado y la verificación de las cifras es responsabilidad de los servidores públicos municipales encargados de integrar los documentos.

Sheet Listado de Formatos
C2: CONGRESO DEL ESTADO DE VERACRUZ
C3: Secretaría de Fiscalización
C4: Dirección de Auditoría y Revisión Financiera
C5: Departamento de Capacitación, Asesoría, Revisión y Supervisión a Municipios
C7: CONTENIDO PARA EL PROYECTO DE LEY DE INGRESOS 2026
B8: N° | C8: Formatos de Ingresos | D8: Formato | E8: Forma de Presentación | F8: Municipios | G8: OPD'S
C9: Proyecto para la Ley de Ingresos 2026
B10: I01 | C10: Clasificacíon por Rubro de Ingresos (Clase) | D10: Si | E10: Físico y Digital (PDF y Excel) | F10: 🗸 | G10: 🗸
B11: I02 | C11: Clasificador por Rubros de Ingresos (Tipo) | D11: Si | E11: Físico y Digital (PDF y Excel) | F11: 🗸 | G11: 🗸
B12: I03 | C12: Calendario de Ingresos Base Mensual | D12: Si | E12: Físico y Digital (PDF y Excel) | F12: 🗸 | G12: 🗸
B13: I04 | C13: Clasificación por Fuentes de Financiamiento (Ingreso) | D13: Si | E13: Físico y Digital (PDF y Excel) | F13: 🗸 | G13: 🗸
B14: I05 | C14: Concentrado Estadístico de Ingresos 2024-2025 | D14: Si | E14: Físico y Digital (PDF y Excel) | F14: 🗸 | G14: 🗴
B15: I06* | C15: Proyecciones de ingresos-LDF
B16: I06.1 | C16: 1. Municipios con más de 200,000 habitantes | D16: Si | E16: Físico y Digital (PDF y Excel) | F16: 🗸 | G16: 🗸
B17: I06.2 | C17: 2. Municipios con menos de 200,000 habitantes | D17: Si | E17: Físico y Digital (PDF y Excel) | F17: 🗸 | G17: 🗸
B18: I07* | C18: Resultados de ingresos-LDF
B19: I07.01 | C19: 1. Municipios con más de 200,000 habitantes | D19: Si | E19: Físico y Digital (PDF y Excel) | F19: 🗸 | G19: 🗸
B20: I07.02 | C20: 2. Municipios con menos de 200,000 habitantes | D20: Si | E20: Físico y Digital (PDF y Excel) | F20: 🗸 | G20: 🗸
B22: * | C22: De los formatos I06 e I07 solo presentaran uno, el que aplique al municipio dependiendo de la población que tenga

Sheet I01
C2: MUNICIPIO DE SALTABARRANCA, DEL ESTADO DE VERACRUZ DE IGNACIO DE LA LLAVE
C7: PROYECTO DE LEY DE INGRESOS PARA EL EJERCICIO FISCAL 2026
C8: I01 - CLASIFICACIÓN POR RUBRO DE INGRESOS (CLASE)
E10: Clave Geográfica: | F10: 139
E12: Fecha de elaboración: | F12: 45915
B14: CRI | C14: CONCEPTO | D14: Parcial | F14: Importe
C16: TOTAL PROYECTO DE LEY DE INGRESOS | F16: =F18+F38+F45+F52+F78+F89+F101+F128+F142+F170 -> 40345845
B18: 1 | C18: IMPUESTOS | F18: ='I03'!F14 -> 1227244.1
B19: 11 | C19: Impuestos sobre los ingresos | F19: ='I03'!F15 -> 0
B20: 1101 | C20: Impuesto sobre espectáculos públicos | E20: ='I03'!F16 -> 0
B21: 1102 | C21: Impuesto sobre loterias, rifas, sorteos y concursos | E21: ='I03'!F17 -> 0
B22: 1103 | C22: Impuesto sobre juegos permitidos | E22: ='I03'!F18 -> 0
B23: 12 | C23: Impuesto sobre el patrimonio | F23: ='I03'!F19 -> 753002.52
B24: 1201 | C24: Impuesto predial | E24: ='I03'!F20 -> 600522.48
B25: 1202 | C25: Impuesto sobre traslación de dominio de bienes inmuebles | E25: ='I03'!F21 -> 152480.04
B26: 1203 | C26: Impuesto sobre fraccionamientos | E26: ='I03'!F22 -> 0
B27: 13 | C27: Impuestos sobre la producción, el consumo y las transacciones | F27: ='I03'!F23 -> 0
B28: 14 | C28: Impuestos al comercio exterior | F28: ='I03'!F24 -> 0
B29: 15 | C29: Impuestos sobre nóminas y asimilables | F29: ='I03'!F25 -> 0
B30: 16 | C30: Impuestos ecológicos | F30: ='I03'!F26 -> 0
B31: 17 | C31: Accesorios de impuestos | F31: ='I03'!F27 -> 17727.06
B32: 1701 | C32: Accesorios de impuestos | E32: ='I03'!F28 -> 17727.06
B33: 18 | C33: Otros impuestos | F33: ='I03'!F29 -> 142428.39
B34: 1801 | C34: Contribución adicional sobre ingresos municipales | E34: ='I03'!F30 -> 142428.39
B35: 19 | C35: Impuestos no comprendidos en la Ley de Ingresos vigente causados en ejercicios fiscales anteriores pendientes de liquidación o pago | F35: ='I03'!F31 -> 314086.17
B36: 1901 | C36: Impuestos de ejercicios fiscales anteriores | E36: ='I03'!F32 -> 314086.17
B38: 2 | C38: CUOTAS Y APORTACIONES DE SEGURIDAD SOCIAL | F38: =+'I03'!F34 -> 0
B39: 21 | C39: Aportaciones para Fondos de Vivienda | F39: ='I03'!F35 -> 0
B40: 22 | C40: Cuotas para la Seguridad Social | F40: ='I03'!F36 -> 0
B41: 23 | C41: Cuotas de Ahorro para el Retiro | F41: ='I03'!F37 -> 0
B42: 24 | C42: Otras Cuotas y Aportaciones para la Seguridad Social | F42: ='I03'!F38 -> 0
B43: 25 | C43: Accesorios de Cuotas y Aportaciones de Seguridad Social | F43: ='I03'!F39 -> 0
B45: 3 | C45: CONTRIBUCIONES DE MEJORAS | F45: =+'I03'!F41 -> 0
B46: 31 | C46: Contribuciones de mejoras por obras públicas | F46: =+'I03'!F42 -> 0
B47: 3101 | C47: Contribuciones de Mejoras por Obras Públicas de Tipo Corriente | E47: =+'I03'!F43 -> 0
B48: 3102 | C48: Accesorios de las contribuciones por mejoras | E48: =+'I03'!F44 -> 0
B49: 39 | C49: Contribuciones de mejoras no comprendidas en la Ley de Ingresos vigente, causadas en ejercicios fiscales anteriores pendientes de liquidación o pago | F49: =+'I03'!F45 -> 0
B50: 3901 | C50: Contribuciones de mejoras de ejercicios fiscales anteriores | E50: =+'I03'!F46 -> 0
B52: 4 | C52: DERECHOS | F52: =+'I03'!F48 -> 924824.75
B53: 41 | C53: Derechos por el uso, goce, aprovechamiento o explotación de bienes de dominio público | F53: =+'I03'!F49 -> 42363.61
...

Sheet I02
B7: I02 - CLASIFICACIÓN POR RUBROS DE INGRESOS (TIPO)
C9: Clave Geográfica: | D9: 139
C11: Fecha de elaboración: | D11: 45915
B13: N° | C13: CONCEPTO | D13: IMPORTE
B14: 1 | C14: IMPUESTOS | D14: =SUM(D15:D23) -> 1227244.1
B15: 11 | C15: Impuestos Sobre los Ingresos | D15: ='I01'!F19 -> 0
B16: 12 | C16: Impuestos Sobre el Patrimonio | D16: ='I01'!F23 -> 753002.52
B17: 13 | C17: Impuestos Sobre la Producción, el Consumo y las Transacciones | D17: ='I01'!F27 -> 0
B18: 14 | C18: Impuestos al Comercio Exterior | D18: ='I01'!F28 -> 0
B19: 15 | C19: Impuestos Sobre Nóminas y Asimilables | D19: ='I01'!F29 -> 0
B20: 16 | C20: Impuestos Ecológicos | D20: ='I01'!F30 -> 0
B21: 17 | C21: Accesorios de Impuestos | D21: ='I01'!F31 -> 17727.06
B22: 18 | C22: Otros Impuestos | D22: ='I01'!F33 -> 142428.39
B23: 19 | C23: Impuestos no Comprendidos en la Ley de Ingresos Vigente, Causados en Ejercicios Fiscales Anteriores Pendientes de Liquidación o Pago | D23: ='I01'!F35 -> 314086.17
B24: 2 | C24: CUOTAS Y APORTACIONES DE SEGURIDAD SOCIAL | D24: =SUM(D25:D29) -> 0
B25: 21 | C25: Aportaciones para Fondos de Vivienda | D25: =+'I01'!F39 -> 0
B26: 22 | C26: Cuotas para la Seguridad Social | D26: =+'I01'!F40 -> 0
B27: 23 | C27: Cuotas de Ahorro para el Retiro | D27: =+'I01'!F41 -> 0
B28: 24 | C28: Otras Cuotas y Aportaciones para la Seguridad Social | D28: =+'I01'!F42 -> 0
B29: 25 | C29: Accesorios de Cuotas y Aportaciones de Seguridad Social | D29: =+'I01'!F43 -> 0
B30: 3 | C30: CONTRIBUCIONES DE MEJORAS | D30: =SUM(D31:D32) -> 0
B31: 31 | C31: Contribuciones de Mejoras por Obras Públicas | D31: =+'I01'!F46 -> 0
B32: 39 | C32: Contribuciones de Mejoras no Comprendidas en la Ley de Ingresos Vigente, Causadas en Ejercicios Fiscales Anteriores Pendientes de Liquidación o Pago | D32: =+'I01'!F49 -> 0
B33: 4 | C33: DERECHOS | D33: =SUM(D34:D38) -> 924824.75
B34: 41 | C34: Derechos por el Uso, Goce, Aprovechamiento o Explotación de Bienes de Dominio Público | D34: =+'I01'!F53 -> 42363.61
B35: 43 | C35: Derechos por Prestación de Servicios | D35: =+'I01'!F55 -> 802435.82
B36: 44 | C36: Otros Derechos | D36: =+'I01'!F71 -> 80025.32
B37: 45 | C37: Accesorios de Derechos | D37: =+'I01'!F73 -> 0
B38: 49 | C38: Derechos no Comprendidos en la Ley de Ingresos Vigente, Causados en Ejercicios Fiscales Anteriores Pendientes de Liquidación o Pago | D38: =+'I01'!F75 -> 0
B39: 5 | C39: PRODUCTOS | D39: =SUM(D40:D41) -> 139736.76
B40: 51 | C40: Productos | D40: =+'I01'!F79 -> 139736.76
B41: 59 | C41: Productos no Comprendidos en la Ley de Ingresos Vigente, Causados en Ejercicios Fiscales Anteriores Pendientes de Liquidación o Pago | D41: =+'I01'!F86 -> 0
B42: 6 | C42: APROVECHAMIENTOS | D42: =SUM(D43:D45) -> 0
B43: 61 | C43: Aprovechamientos | D43: =+'I01'!F90 -> 0
B44: 63 | C44: Accesorios de Aprovechamientos | D44: =+'I01'!F96 -> 0
B45: 69 | C45: Aprovechamientos no Comprendidos en la Ley de Ingresos Vigente, Causados en Ejercicios Fiscales Anteriores Pendientes de Liquidación o Pago | D45: =+'I01'!F98 -> 0
B46: 7 | C46: INGRESOS POR VENTA DE BIENES, PRESTACIÓN DE SERVICIOS Y OTROS INGRESOS | D46: =SUM(D47:D55) -> 179628.92
B47: 71 | C47: Ingresos por Venta de Bienes y Prestación de Servicios de Instituciones Públicas de Seguridad Social | D47: =+'I01'!F102 -> 0
B48: 72 | C48: Ingresos por Venta de Bienes y Prestación de Servicios de Empresas Productivas del Estado | D48: =+'I01'!F105 -> 0
B49: 73 | C49: Ingresos por Venta de Bienes y Prestación de Servicios de Entidades Paraestatales y Fideicomisos No Empresariales y No Financieros | D49: =+'I01'!F110 -> 0
...

Sheet I03
E8: Clave Geográfica: | F8: 139
E10: Fecha de elaboración: | F10: 45915
B12: C.R.I | C12: PLAN DE CUENTAS | D12: CONCEPTO | F12: ANUAL | H12: ENERO | I12: FEBRERO | J12: MARZO | K12: ABRIL | L12: MAYO | M12: JUNIO | N12: JULIO | O12: AGOSTO | P12: SEPTIEMBRE | Q12: OCTUBRE | R12: NOVIEMBRE | S12: DICIEMBRE
B14: 1 | C14: 4.1.1 | D14: IMPUESTOS | F14: =SUM(H14:S14) -> 1227244.1 | H14: =SUM(H15,H19,H23,H24,H25,H26,H27,H29,H31) -> 450100 | I14: =SUM(I15,I19,I23,I24,I25,I26,I27,I29,I31) -> 150100 | J14: =SUM(J15,J19,J23,J24,J25,J26,J27,J29,J31) -> 80100 | K14: =SUM(K15,K19,K23,K24,K25,K26,K27,K29,K31) -> 65100 | L14: =SUM(L15,L19,L23,L24,L25,L26,L27,L29,L31) -> 64100 | M14: =SUM(M15,M19,M23,M24,M25,M26,M27,M29,M31) -> 64100 | N14: =SUM(N15,N19,N23,N24,N25,N26,N27,N29,N31) -> 63100 | O14: =SUM(O15,O19,O23,O24,O25,O26,O27,O29,O31) -> 62100 | ... S14: =SUM(S15,S19,S23,S24,S25,S26,S27,S29,S31) -> 42144.14
B15: 11 | C15: 4.1.1.1 | D15: Impuestos sobre los ingresos | F15: =SUM(H15:S15) -> 0 | H15: =SUM(H16:H18) -> 0 | I15: =SUM(I16:I18) -> 0 | J15: =SUM(J16:J18) -> 0 | K15: =SUM(K16:K18) -> 0 | L15: =SUM(L16:L18) -> 0 | M15: =SUM(M16:M18) -> 0 | N15: =SUM(N16:N18) -> 0 | O15: =SUM(O16:O18) -> 0 | ... S15: =SUM(S16:S18) -> 0
B16: 1101 | C16: 4.1.1.1.01 | D16: Impuesto sobre espectáculos públicos | F16: =SUM(H16:S16) -> 0 | H16: 0 | I16: 0 | J16: 0 | K16: 0 | L16: 0 | M16: 0 | N16: 0 | O16: 0 | P16: 0 | Q16: 0 | R16: 0 | S16: 0
B17: 1102 | C17: 4.1.1.1.02 | D17: Impuesto sobre loterías, rifas, sorteos y concursos | F17: =SUM(H17:S17) -> 0 | H17: 0 | I17: 0 | J17: 0 | K17: 0 | L17: 0 | M17: 0 | N17: 0 | O17: 0 | P17: 0 | Q17: 0 | R17: 0 | S17: 0
B18: 1103 | C18: 4.1.1.1.03 | D18: Impuesto sobre juegos permitidos | F18: =SUM(H18:S18) -> 0 | H18: 0 | I18: 0 | J18: 0 | K18: 0 | L18: 0 | M18: 0 | N18: 0 | O18: 0 | P18: 0 | Q18: 0 | R18: 0 | S18: 0
B19: 12 | C19: 4.1.1.2 | D19: Impuesto sobre el patrimonio | F19: =SUM(H19:S19) -> 753002.52 | H19: =SUM(H20:H22) -> 410000 | I19: =SUM(I20:I22) -> 110000 | J19: =SUM(J20:J22) -> 40000 | K19: =SUM(K20:K22) -> 25000 | L19: =SUM(L20:L22) -> 24000 | M19: =SUM(M20:M22) -> 24000 | N19: =SUM(N20:N22) -> 24000 | O19: =SUM(O20:O22) -> 23000 | ... S19: =SUM(S20:S22) -> 4002.52
B20: 1201 | C20: 4.1.1.2.01 | D20: Impuesto predial | F20: =SUM(H20:S20) -> 600522.48 | H20: 350000 | I20: 100000 | J20: 30000 | K20: 15000 | L20: 15000 | M20: 15000 | N20: 15000 | O20: 15000 | P20: 15000 | Q20: 15000 | R20: 15000 | S20: 522.48
B21: 1202 | C21: 4.1.1.2.02 | D21: Impuesto sobre traslación de dominio de bienes inmuebles | F21: =SUM(H21:S21) -> 152480.04 | H21: 60000 | I21: 10000 | J21: 10000 | K21: 10000 | L21: 9000 | M21: 9000 | N21: 9000 | O21: 8000 | P21: 8000 | Q21: 8000 | R21: 8000 | S21: 3480.04
B22: 1203 | C22: 4.1.1.2.03 | D22: Impuesto sobre fraccionamientos | F22: =SUM(H22:S22) -> 0 | H22: 0 | I22: 0 | J22: 0 | K22: 0 | L22: 0 | M22: 0 | N22: 0 | O22: 0 | P22: 0 | Q22: 0 | R22: 0 | S22: 0
B23: 13 | C23: 4.1.1.3 | D23: Impuestos Sobre la Producción, el Consumo y las Transacciones | F23: =SUM(H23:S23) -> 0
B24: 14 | C24: 4.1.1.4 | D24: Impuestos al Comercio Exterior | F24: =SUM(H24:S24) -> 0
B25: 15 | C25: 4.1.1.5 | D25: Impuestos Sobre Nóminas y Asimilables | F25: =SUM(H25:S25) -> 0
B26: 16 | C26: 4.1.1.6 | D26: Impuestos Ecológicos | F26: =SUM(H26:S26) -> 0
B27: 17 | C27: 4.1.1.7 | D27: Accesorios de impuestos | F27: =SUM(H27:S27) -> 17727.06 | H27: =H28 -> 2000 | I27: =I28 -> 2000 | J27: =J28 -> 2000 | K27: =K28 -> 2000 | L27: =L28 -> 2000 | M27: =M28 -> 2000 | N27: =N28 -> 1000 | O27: =O28 -> 1000 | ... S27: =S28 -> 727.06
B28: 1701 | C28: 4.1.1.7.01 | D28: Accesorios de impuestos | F28: =SUM(H28:S28) -> 17727.06 | H28: 2000 | I28: 2000 | J28: 2000 | K28: 2000 | L28: 2000 | M28: 2000 | N28: 1000 | O28: 1000 | P28: 1000 | Q28: 1000 | R28: 1000 | S28: 727.06
B29: 18 | C29: 4.1.1.9 | D29: Otros impuestos | F29: =SUM(H29:S29) -> 142428.39 | H29: =SUM(H30) -> 11900 | I29: =SUM(I30) -> 11900 | J29: =SUM(J30) -> 11900 | K29: =SUM(K30) -> 11900 | L29: =SUM(L30) -> 11900 | M29: =SUM(M30) -> 11900 | N29: =SUM(N30) -> 11900 | O29: =SUM(O30) -> 11900 | ... S29: =SUM(S30) -> 11528.39
B30: 1801 | C30: 4.1.1.9.01 | D30: Contribución adicional sobre ingresos municipales | F30: =SUM(H30:S30) -> 142428.39 | H30: 11900 | I30: 11900 | J30: 11900 | K30: 11900 | L30: 11900 | M30: 11900 | N30: 11900 | O30: 11900 | P30: 11900 | Q30: 11900 | R30: 11900 | S30: 11528.39
B31: 19 | C31: 4.1.1.8 | D31: Impuestos no comprendidos en la Ley de Ingresos vigente causados en ejercicios fiscales anteriores pendientes de liquidación o pago. | F31: =SUM(H31:S31) -> 314086.17 | H31: =SUM(H32) -> 26200 | I31: =SUM(I32) -> 26200 | J31: =SUM(J32) -> 26200 | K31: =SUM(K32) -> 26200 | L31: =SUM(L32) -> 26200 | M31: =SUM(M32) -> 26200 | N31: =SUM(N32) -> 26200 | O31: =SUM(O32) -> 26200 | ... S31: =SUM(S32) -> 25886.17
B32: 1901 | C32: 4.1.1.8.01 | D32: Impuestos de ejercicios fiscales anteriores | F32: =SUM(H32:S32) -> 314086.17 | H32: 26200 | I32: 26200 | J32: 26200 | K32: 26200 | L32: 26200 | M32: 26200 | N32: 26200 | O32: 26200 | P32: 26200 | Q32: 26200 | R32: 26200 | S32: 25886.17
B34: 2 | C34: 4.1.2 | D34: CUOTAS Y APORTACIONES DE SEGURIDAD SOCIAL | F34: =SUM(H34:S34) -> 0 | H34: =SUM(H35,H36,H37,H38,H39) -> 0 | I34: =SUM(I35,I36,I37,I38,I39) -> 0 | J34: =SUM(J35,J36,J37,J38,J39) -> 0 | K34: =SUM(K35,K36,K37,K38,K39) -> 0 | L34: =SUM(L35,L36,L37,L38,L39) -> 0 | M34: =SUM(M35,M36,M37,M38,M39) -> 0 | N34: =SUM(N35,N36,N37,N38,N39) -> 0 | O34: =SUM(O35,O36,O37,O38,O39) -> 0 | ... S34: =SUM(S35,S36,S37,S38,S39) -> 0
B35: 21 | C35: 4.1.2.1 | D35: Aportaciones para Fondos de Vivienda | F35: =SUM(H35:S35) -> 0
B36: 22 | C36: 4.1.2.2 | D36: Cuotas para la Seguridad Social | F36: =SUM(H36:S36) -> 0
B37: 23 | C37: 4.1.2.3 | D37: Cuotas de Ahorro para el Retiro | F37: =SUM(H37:S37) -> 0
B38: 24 | C38: 4.1.2.9 | D38: Otras Cuotas y Aportaciones para la Seguridad Social | F38: =SUM(H38:S38) -> 0
B39: 25 | C39: 4.1.2.4 | D39: Accesorios de Cuotas y Aportaciones de Seguridad Social | F39: =SUM(H39:S39) -> 0
B41: 3 | C41: 4.1.3 | D41: CONTRIBUCIONES DE MEJORAS | F41: =SUM(H41:S41) -> 0 | H41: =SUM(H42,H45) -> 0 | I41: =SUM(I42,I45) -> 0 | J41: =SUM(J42,J45) -> 0 | K41: =SUM(K42,K45) -> 0 | L41: =SUM(L42,L45) -> 0 | M41: =SUM(M42,M45) -> 0 | N41: =SUM(N42,N45) -> 0 | O41: =SUM(O42,O45) -> 0 | ... S41: =SUM(S42,S45) -> 0
B42: 31 | C42: 4.1.3.1 | D42: Contribuciones de Mejoras por Obras Públicas | F42: =SUM(H42:S42) -> 0 | H42: =SUM(H43,H44) -> 0 | I42: =SUM(I43,I44) -> 0 | J42: =SUM(J43,J44) -> 0 | K42: =SUM(K43,K44) -> 0 | L42: =SUM(L43,L44) -> 0 | M42: =SUM(M43,M44) -> 0 | N42: =SUM(N43,N44) -> 0 | O42: =SUM(O43,O44) -> 0 | ... S42: =SUM(S43,S44) -> 0
B43: 3101 | C43: 4.1.3.1.01 | D43: Contribuciones de Mejoras por Obras Públicas de Tipo Corriente | F43: =SUM(H43:S43) -> 0 | H43: 0 | I43: 0 | J43: 0 | K43: 0 | L43: 0 | M43: 0 | N43: 0 | O43: 0 | P43: 0 | Q43: 0 | R43: 0 | S43: 0
B44: 3102 | C44: 4.1.3.1.02 | D44: Accesorios de Contribuciones de Mejoras | F44: =SUM(H44:S44) -> 0 | H44: 0 | I44: 0 | J44: 0 | K44: 0 | L44: 0 | M44: 0 | N44: 0 | O44: 0 | P44: 0 | Q44: 0 | R44: 0 | S44: 0
B45: 39 | C45: 4.1.3.2 | D45: Contribuciones de mejoras no comprendidos en la Ley de Ingresos vigente causados en ejercicios fiscales anteriores pendientes de liquidación o pago. | F45: =SUM(H45:S45) -> 0 | H45: =SUM(H46) -> 0 | I45: =SUM(I46) -> 0 | J45: =SUM(J46) -> 0 | K45: =SUM(K46) -> 0 | L45: =SUM(L46) -> 0 | M45: =SUM(M46) -> 0 | N45: =SUM(N46) -> 0 | O45: =SUM(O46) -> 0 | ... S45: =SUM(S46) -> 0
B46: 3901 | C46: 4.1.3.2.01 | D46: Contribuciones de mejoras de ejercicios fiscales anteriores | F46: =SUM(H46:S46) -> 0 | H46: 0 | I46: 0 | J46: 0 | K46: 0 | L46: 0 | M46: 0 | N46: 0 | O46: 0 | P46: 0 | Q46: 0 | R46: 0 | S46: 0
B48: 4 | C48: 4.1.4 | D48: DERECHOS | F48: =SUM(H48:S48) -> 924824.75 | H48: =SUM(H49,H51,H67,H69,H71) -> 77030 | I48: =SUM(I49,I51,I67,I69,I71) -> 77030 | J48: =SUM(J49,J51,J67,J69,J71) -> 77030 | K48: =SUM(K49,K51,K67,K69,K71) -> 77030 | L48: =SUM(L49,L51,L67,L69,L71) -> 77030 | M48: =SUM(M49,M51,M67,M69,M71) -> 77030 | N48: =SUM(N49,N51,N67,N69,N71) -> 77030 | O48: =SUM(O49,O51,O67,O69,O71) -> 77030 | ... S48: =SUM(S49,S51,S67,S69,S71) -> 77494.75
B49: 41 | C49: 4.1.4.1 | D49: Derechos por el uso, goce, aprovechamiento o explotación de bienes de dominio público; | F49: =SUM(H49:S49) -> 42363.61 | H49: =SUM(H50) -> 3530 | I49: =SUM(I50) -> 3530 | J49: =SUM(J50) -> 3530 | K49: =SUM(K50) -> 3530 | L49: =SUM(L50) -> 3530 | M49: =SUM(M50) -> 3530 | N49: =SUM(N50) -> 3530 | O49: =SUM(O50) -> 3530 | ... S49: =SUM(S50) -> 3533.61
B50: 4101 | C50: 4.1.4.1.01 | D50: Derechos por ocupación de inmuebles de dominio público | F50: =SUM(H50:S50) -> 42363.61 | H50: 3530 | I50: 3530 | J50: 3530 | K50: 3530 | L50: 3530 | M50: 3530 | N50: 3530 | O50: 3530 | P50: 3530 | Q50: 3530 | R50: 3530 | S50: 3533.61
B51: 43 | C51: 4.1.4.3 | D51: Derechos por prestación de servicios | F51: =SUM(H51:S51) -> 802435.82 | H51: =SUM(H52+H53+H54+H55+H56+H57+H58+H59+H60+H61+H62+H63+H64+H65+H66) -> 66800 | I51: =SUM(I52+I53+I54+I55+I56+I57+I58+I59+I60+I61+I62+I63+I64+I65+I66) -> 66800 | J51: =SUM(J52+J53+J54+J55+J56+J57+J58+J59+J60+J61+J62+J63+J64+J65+J66) -> 66800 | K51: =SUM(K52+K53+K54+K55+K56+K57+K58+K59+K60+K61+K62+K63+K64+K65+K66) -> 66800 | L51: =SUM(L52+L53+L54+L55+L56+L57+L58+L59+L60+L61+L62+L63+L64+L65+L66) -> 66800 | M51: =SUM(M52+M53+M54+M55+M56+M57+M58+M59+M60+M61+M62+M63+M64+M65+M66) -> 66800 | N51: =SUM(N52+N53+N54+N55+N56+N57+N58+N59+N60+N61+N62+N63+N64+N65+N66) -> 66800 | O51: =SUM(O52+O53+O54+O55+O56+O57+O58+O59+O60+O61+O62+O63+O64+O65+O66) -> 66800 | ... S51: =SUM(S52+S53+S54+S55+S56+S57+S58+S59+S60+S61+S62+S63+S64+S65+S66) -> 67635.82
B52: 4301 | C52: 4.1.4.3.01 | D52: Derechos por registro y refrendo anual de toda actividad económica | F52: =SUM(H52:S52) -> 130974.03 | H52: 10900 | I52: 10900 | J52: 10900 | K52: 10900 | L52: 10900 | M52: 10900 | N52: 10900 | O52: 10900 | P52: 10900 | Q52: 10900 | R52: 10900 | S52: 11074.03
B53: 4302 | C53: 4.1.4.3.02 | D53: Derechos por obras materiales | F53: =SUM(H53:S53) -> 6056.44 | H53: 500 | I53: 500 | J53: 500 | K53: 500 | L53: 500 | M53: 500 | N53: 500 | O53: 500 | P53: 500 | Q53: 500 | R53: 500 | S53: 556.44
...

Sheet I04
B9: I04 - CLASIFICACIÓN POR FUENTES DE FINANCIAMIENTO (INGRESOS)
C11: Clave Geográfica: | D11: 139
C13: Fecha de elaboración: | D13: 45915
B15: N° | C15: Concepto | D15: Importe
B16: 1 | C16: No Etiquetado | D16: =SUM(D17:D23) -> 24761117
B17: 11 | C17: Recursos Fiscales | D17: =+'I01'!E184 -> 2291805.6
B18: 12 | C18: Financiamientos Internos | D18: =+'I01'!E185 -> 0
B19: 13 | C19: Financiamientos Externos | D19: =+'I01'!E186 -> 0
B20: 14 | C20: Ingresos Propios | D20: =+'I01'!E187 -> 179628.92
B21: 15 | C21: Recursos Federales | D21: =+'I01'!E188 -> 22289683
B22: 16 | C22: Recursos Estatales | D22: =+'I01'!E189 -> 0
B23: 17 | C23: Otros Recursos de Libre Disposición | D23: =+'I01'!E190 -> 0
B24: 2 | C24: Etiquetado | D24: =SUM(D25:D27) -> 15584728
B25: 25 | C25: Recursos Federales | D25: =+'I01'!E192 -> 15584728
B26: 26 | C26: Recursos Estatales | D26: =+'I01'!E193 -> 0
B27: 27 | C27: Otros Recursos de Transferencias Federales Etiquetadas | D27: =+'I01'!E194 -> 0
B28: TOTAL GENERAL | D28: =+D16+D24 -> 40345845
B38: COMISIÓN DE HACIENDA Y PATRIMONIO MUNICIPAL

Sheet I05
B7: I05 - CONCENTRADO ESTADÍSTICO DE INGRESOS ARMONIZADO 2024-2025
D9: Clave Geográfica: | F9: 139
D11: Fecha de elaboración: | F11: 45915
B13: C.R.I | C13: PLAN DE CUENTAS | D13: CONCEPTO | F13: TOTAL SEP24-AGO25 | H13: TOTAL SEP-DIC 24 | J13: TOTAL ENE-AGOS 25 | L13: 2024 | P13: 2025
L14: SEPTIEMBRE | M14: OCTUBRE | N14: NOVIEMBRE | O14: DICIEMBRE | P14: ENERO | Q14: FEBRERO | R14: MARZO | S14: ABRIL | T14: MAYO | U14: JUNIO | V14: JULIO | W14: AGOSTO
B15: 1 | C15: 4.1.1 | D15: IMPUESTOS | F15: =SUM(L15:W15) -> 1227244.1 | H15: =SUM(L15:O15) -> 132729.19 | J15: =SUM(P15:W15) -> 1094514.9 | L15: =SUM(L16+L35+L46+L47+L48+L49+L50+L56+L65) -> 32675.09 | M15: =SUM(M16+M35+M46+M47+M48+M49+M50+M56+M65) -> 36904.631 | N15: =SUM(N16+N35+N46+N47+N48+N49+N50+N56+N65) -> 28664.81 | O15: =SUM(O16+O35+O46+O47+O48+O49+O50+O56+O65) -> 34484.66 | P15: =SUM(P16+P35+P46+P47+P48+P49+P50+P56+P65) -> 711679.43 | Q15: =SUM(Q16+Q35+Q46+Q47+Q48+Q49+Q50+Q56+Q65) -> 76297.88 | R15: =SUM(R16+R35+R46+R47+R48+R49+R50+R56+R65) -> 43476.67 | S15: =SUM(S16+S35+S46+S47+S48+S49+S50+S56+S65) -> 49414.9 | ... W15: =SUM(W16+W35+W46+W47+W48+W49+W50+W56+W65) -> 65129.06
B16: 11 | C16: 4.1.1.1 | D16: Impuestos sobre los ingresos | F16: =SUM(L16:W16) -> 0 | H16: =SUM(L16:O16) -> 0 | J16: =SUM(P16:W16) -> 0 | L16: =SUM(L17,L26,L32) -> 0 | M16: =SUM(M17+M26+M32) -> 0 | N16: =SUM(N17+N26+N32) -> 0 | O16: =SUM(O17+O26+O32) -> 0 | P16: =SUM(P17+P26+P32) -> 0 | Q16: =SUM(Q17+Q26+Q32) -> 0 | R16: =SUM(R17+R26+R32) -> 0 | S16: =SUM(S17+S26+S32) -> 0 | T16: =SUM(T17+T26+T32) -> 0 | ... W16: =SUM(W17+W26+W32) -> 0
B17: 1101 | C17: 4.1.1.1.01 | D17: Impuesto sobre espectáculos públicos | F17: =SUM(L17:W17) -> 0 | H17: =SUM(L17:O17) -> 0 | J17: =SUM(P17:W17) -> 0 | L17: =SUM(L18,L19,L20,L21,L22,L23,L24,L25) -> 0 | M17: =SUM(M18:M25) -> 0 | N17: =SUM(N18:N25) -> 0 | O17: =SUM(O18:O25) -> 0 | P17: =SUM(P18:P25) -> 0 | Q17: =SUM(Q18:Q25) -> 0 | R17: =SUM(R18:R25) -> 0 | S17: =SUM(S18:S25) -> 0 | T17: =SUM(T18:T25) -> 0 | ... W17: =SUM(W18:W25) -> 0
B18: 110101 | C18: 4.1.1.1.01.01 | D18: Carpas | F18: =SUM(L18:W18) -> 0 | H18: =SUM(L18:O18) -> 0 | J18: =SUM(P18:W18) -> 0 | L18: 0 | M18: 0 | N18: 0 | O18: 0 | P18: 0 | Q18: 0 | R18: 0 | S18: 0 | T18: 0 | U18: 0 | V18: 0 | W18: 0
B19: 110102 | C19: 4.1.1.1.01.02 | D19: Circos | F19: =SUM(L19:W19) -> 0 | H19: =SUM(L19:O19) -> 0 | J19: =SUM(P19:W19) -> 0 | L19: 0 | M19: 0 | N19: 0 | O19: 0 | P19: 0 | Q19: 0 | R19: 0 | S19: 0 | T19: 0 | U19: 0 | V19: 0 | W19: 0
B20: 110103 | C20: 4.1.1.1.01.03 | D20: Espectáculos Deportivos | F20: =SUM(L20:W20) -> 0 | H20: =SUM(L20:O20) -> 0 | J20: =SUM(P20:W20) -> 0 | L20: 0 | M20: 0 | N20: 0 | O20: 0 | P20: 0 | Q20: 0 | R20: 0 | S20: 0 | T20: 0 | U20: 0 | V20: 0 | W20: 0
B21: 110104 | C21: 4.1.1.1.01.04 | D21: Corridas y otros espectaculos similares | F21: =SUM(L21:W21) -> 0 | H21: =SUM(L21:O21) -> 0 | J21: =SUM(P21:W21) -> 0 | L21: 0 | M21: 0 | N21: 0 | O21: 0 | P21: 0 | Q21: 0 | R21: 0 | S21: 0 | T21: 0 | U21: 0 | V21: 0 | W21: 0
B22: 110105 | C22: 4.1.1.1.01.05 | D22: Representaciones teatrales | F22: =SUM(L22:W22) -> 0 | H22: =SUM(L22:O22) -> 0 | J22: =SUM(P22:W22) -> 0 | L22: 0 | M22: 0 | N22: 0 | O22: 0 | P22: 0 | Q22: 0 | R22: 0 | S22: 0 | T22: 0 | U22: 0 | V22: 0 | W22: 0
B23: 110106 | C23: 4.1.1.1.01.06 | D23: Exhibiciones y concursos | F23: =SUM(L23:W23) -> 0 | H23: =SUM(L23:O23) -> 0 | J23: =SUM(P23:W23) -> 0 | L23: 0 | M23: 0 | N23: 0 | O23: 0 | P23: 0 | Q23: 0 | R23: 0 | S23: 0 | T23: 0 | U23: 0 | V23: 0 | W23: 0
B24: 110107 | C24: 4.1.1.1.01.07 | D24: Espectáculos nocturnos | F24: =SUM(L24:W24) -> 0 | H24: =SUM(L24:O24) -> 0 | J24: =SUM(P24:W24) -> 0 | L24: 0 | M24: 0 | N24: 0 | O24: 0 | P24: 0 | Q24: 0 | R24: 0 | S24: 0 | T24: 0 | U24: 0 | V24: 0 | W24: 0
B25: 110109 | C25: 4.1.1.1.01.09 | D25: Otros | F25: =SUM(L25:W25) -> 0 | H25: =SUM(L25:O25) -> 0 | J25: =SUM(P25:W25) -> 0 | L25: 0 | M25: 0 | N25: 0 | O25: 0 | P25: 0 | Q25: 0 | R25: 0 | S25: 0 | T25: 0 | U25: 0 | V25: 0 | W25: 0
B26: 1102 | C26: 4.1.1.1.02 | D26: Impuesto sobre loterías, rifas, sorteos y concursos | F26: =SUM(L26:W26) -> 0 | H26: =SUM(L26:O26) -> 0 | J26: =SUM(P26:W26) -> 0 | L26: =SUM(L27,L28,L29,L30,L31) -> 0 | M26: =SUM(M27:M31) -> 0 | N26: =SUM(N27:N31) -> 0 | O26: =SUM(O27:O31) -> 0 | P26: =SUM(P27:P31) -> 0 | Q26: =SUM(Q27:Q31) -> 0 | R26: =SUM(R27:R31) -> 0 | S26: =SUM(S27:S31) -> 0 | T26: =SUM(T27:T31) -> 0 | ... W26: =SUM(W27:W31) -> 0
B27: 110201 | C27: 4.1.1.1.02.01 | D27: Loterías | F27: =SUM(L27:W27) -> 0 | H27: =SUM(L27:O27) -> 0 | J27: =SUM(P27:W27) -> 0 | L27: 0 | M27: 0 | N27: 0 | O27: 0 | P27: 0 | Q27: 0 | R27: 0 | S27: 0 | T27: 0 | U27: 0 | V27: 0 | W27: 0
B28: 110202 | C28: 4.1.1.1.02.02 | D28: Rifas | F28: =SUM(L28:W28) -> 0 | H28: =SUM(L28:O28) -> 0 | J28: =SUM(P28:W28) -> 0 | L28: 0 | M28: 0 | N28: 0 | O28: 0 | P28: 0 | Q28: 0 | R28: 0 | S28: 0 | T28: 0 | U28: 0 | V28: 0 | W28: 0
B29: 110203 | C29: 4.1.1.1.02.03 | D29: Sorteos | F29: =SUM(L29:W29) -> 0 | H29: =SUM(L29:O29) -> 0 | J29: =SUM(P29:W29) -> 0 | L29: 0 | M29: 0 | N29: 0 | O29: 0 | P29: 0 | Q29: 0 | R29: 0 | S29: 0 | T29: 0 | U29: 0 | V29: 0 | W29: 0
B30: 110204 | C30: 4.1.1.1.02.04 | D30: Concursos | F30: =SUM(L30:W30) -> 0 | H30: =SUM(L30:O30) -> 0 | J30: =SUM(P30:W30) -> 0 | L30: 0 | M30: 0 | N30: 0 | O30: 0 | P30: 0 | Q30: 0 | R30: 0 | S30: 0 | T30: 0 | U30: 0 | V30: 0 | W30: 0
B31: 110205 | C31: 4.1.1.1.02.05 | D31: Premios | F31: =SUM(L31:W31) -> 0 | H31: =SUM(L31:O31) -> 0 | J31: =SUM(P31:W31) -> 0 | L31: 0 | M31: 0 | N31: 0 | O31: 0 | P31: 0 | Q31: 0 | R31: 0 | S31: 0 | T31: 0 | U31: 0 | V31: 0 | W31: 0
B32: 1103 | C32: 4.1.1.1.03 | D32: Impuesto sobre juegos permitidos | F32: =SUM(L32:W32) -> 0 | H32: =SUM(L32:O32) -> 0 | J32: =SUM(P32:W32) -> 0 | L32: =SUM(L33:L34) -> 0 | M32: =SUM(M33:M34) -> 0 | N32: =SUM(N33:N34) -> 0 | O32: =SUM(O33:O34) -> 0 | P32: =SUM(P33:P34) -> 0 | Q32: =SUM(Q33:Q34) -> 0 | R32: =SUM(R33:R34) -> 0 | S32: =SUM(S33:S34) -> 0 | ... W32: =SUM(W33:W34) -> 0
B33: 110301 | C33: 4.1.1.1.03.01 | D33: Juegos de mesa | F33: =SUM(L33:W33) -> 0 | H33: =SUM(L33:O33) -> 0 | J33: =SUM(P33:W33) -> 0 | L33: 0 | M33: 0 | N33: 0 | O33: 0 | P33: 0 | Q33: 0 | R33: 0 | S33: 0 | T33: 0 | U33: 0 | V33: 0 | W33: 0
B34: 110302 | C34: 4.1.1.1.03.02 | D34: Juegos electrónicos | F34: =SUM(L34:W34) -> 0 | H34: =SUM(L34:O34) -> 0 | J34: =SUM(P34:W34) -> 0 | L34: 0 | M34: 0 | N34: 0 | O34: 0 | P34: 0 | Q34: 0 | R34: 0 | S34: 0 | T34: 0 | U34: 0 | V34: 0 | W34: 0
B35: 12 | C35: 4.1.1.2 | D35: Impuesto sobre el patrimonio | F35: =SUM(L35:W35) -> 753002.52 | H35: =SUM(L35:O35) -> 68790.56 | J35: =SUM(P35:W35) -> 684211.96 | L35: =SUM(+L36+L41+L44) -> 16262.76 | M35: =SUM(+M36+M41+M44) -> 17310.96 | N35: =SUM(+N36+N41+N44) -> 19098.86 | O35: =SUM(+O36+O41+O44) -> 16117.98 | P35: =SUM(+P36+P41+P44) -> 512963.09 | Q35: =SUM(+Q36+Q41+Q44) -> 34605.73 | R35: =SUM(+R36+R41+R44) -> 14629.62 | S35: =SUM(+S36+S41+S44) -> 14927.68 | ... W35: =SUM(+W36+W41+W44) -> 44559
B36: 1201 | C36: 4.1.1.2.01 | D36: Impuesto predial | F36: =SUM(L36:W36) -> 600522.48 | H36: =SUM(L36:O36) -> 14188.22 | J36: =SUM(P36:W36) -> 586334.26 | L36: =SUM(L37:L40) -> 4283.76 | M36: =SUM(M37:M40) -> 3121.84 | N36: =SUM(N37:N40) -> 2498.86 | O36: =SUM(O37:O40) -> 4283.76 | P36: =SUM(P37:P40) -> 511563.09 | Q36: =SUM(Q37:Q40) -> 31148.45 | R36: =SUM(R37:R40) -> 9201.92 | S36: =SUM(S37:S40) -> 12827.68 | ... W36: =SUM(W37:W40) -> 3348
B37: 120101 | C37: 4.1.1.2.01.01 | D37: Predial urbano | F37: =SUM(L37:W37) -> 376932.36 | H37: =SUM(L37:O37) -> 9877.68 | J37: =SUM(P37:W37) -> 367054.68 | L37: 3212.82 | M37: 2381.1 | N37: 1784.9 | O37: 2498.86 | P37: 322246.63 | Q37: 19371.2 | R37: 7448.31 | S37: 6451.76 | T37: 3338.86 | U37: 4849.92 | V37: 1860 | W37: 1488
B38: 120102 | C38: 4.1.1.2.01.02 | D38: Predial sub urbano | F38: =SUM(L38:W38) -> 23363.95 | H38: =SUM(L38:O38) -> 26.78 | J38: =SUM(P38:W38) -> 23337.17 | L38: 0 | M38: 26.78 | N38: 0 | O38: 0 | P38: 19313.69 | Q38: 1168.08 | R38: 0 | S38: 1367.4 | T38: 0 | U38: 0 | V38: 1488 | W38: 0
B39: 120103 | C39: 4.1.1.2.01.03 | D39: Predial rural | F39: =SUM(L39:W39) -> 200226.17 | H39: =SUM(L39:O39) -> 4283.76 | J39: =SUM(P39:W39) -> 195942.41 | L39: 1070.94 | M39: 713.96 | N39: 713.96 | O39: 1784.9 | P39: 170002.77 | Q39: 10609.17 | R39: 1753.61 | S39: 5008.52 | T39: 2796.22 | U39: 1860 | V39: 2052.12 | W39: 1860
B40: 120104 | C40: 4.1.1.2.01.04 | D40: Propiedad o posesión ejidal o comunal | F40: =SUM(L40:W40) -> 0 | H40: =SUM(L40:O40) -> 0 | J40: =SUM(P40:W40) -> 0 | L40: 0 | M40: 0 | N40: 0 | O40: 0 | P40: 0 | Q40: 0 | R40: 0 | S40: 0 | T40: 0 | U40: 0 | V40: 0 | W40: 0
B41: 1202 | C41: 4.1.1.2.02 | D41: Impuesto sobre traslación de dominio de bienes inmuebles | F41: =SUM(L41:W41) -> 152480.04 | H41: =SUM(L41:O41) -> 54602.34 | J41: =SUM(P41:W41) -> 97877.7 | L41: =SUM(L42:L43) -> 11979 | M41: =SUM(M42:M43) -> 14189.12 | N41: =SUM(N42:N43) -> 16600 | O41: =SUM(O42:O43) -> 11834.22 | P41: =SUM(P42:P43) -> 1400 | Q41: =SUM(Q42:Q43) -> 3457.28 | R41: =SUM(R42:R43) -> 5427.7 | S41: =SUM(S42:S43) -> 2100 | ... W41: =SUM(W42:W43) -> 41211
B42: 120201 | C42: 4.1.1.2.02.01 | D42: Impuesto Sobre Traslación de Dominio por la Adquisición de Bienes Inmuebles de Suelo o en éste | F42: =SUM(L42:W42) -> 69744.69 | H42: =SUM(L42:O42) -> 24771.97 | J42: =SUM(P42:W42) -> 44972.72 | L42: 11979 | M42: 6130.12 | N42: 0 | O42: 6662.85 | P42: 0 | Q42: 0 | R42: 0 | S42: 0 | T42: 0 | U42: 29957.72 | V42: 14 | W42: 15001
B43: 120202 | C43: 4.1.1.2.02.02 | D43: Impuesto Sobre Traslación de Dominio de Construcciones adheridas a la Adquisición de Bienes Inmuebles | F43: =SUM(L43:W43) -> 82735.35 | H43: =SUM(L43:O43) -> 29830.37 | J43: =SUM(P43:W43) -> 52904.98 | L43: 0 | M43: 8059 | N43: 16600 | O43: 5171.37 | P43: 1400 | Q43: 3457.28 | R43: 5427.7 | S43: 2100 | T43: 2569 | U43: 4454 | V43: 7287 | W43: 26210
B44: 1203 | C44: 4.1.1.2.03 | D44: Impuesto sobre fraccionamientos | F44: =SUM(L44:W44) -> 0 | H44: =SUM(L44:O44) -> 0 | J44: =SUM(P44:W44) -> 0 | L44: =SUM(+L45) -> 0 | M44: =SUM(+M45) -> 0 | N44: =SUM(+N45) -> 0 | O44: =SUM(+O45) -> 0 | P44: =SUM(+P45) -> 0 | Q44: =SUM(+Q45) -> 0 | R44: =SUM(+R45) -> 0 | S44: =SUM(+S45) -> 0 | ... W44: =SUM(+W45) -> 0
B45: 120301 | C45: 4.1.1.2.03.01 | D45: Impuesto sobre fraccionamientos | F45: =SUM(L45:W45) -> 0 | H45: =SUM(L45:O45) -> 0 | J45: =SUM(P45:W45) -> 0 | L45: 0 | M45: 0 | N45: 0 | O45: 0 | P45: 0 | Q45: 0 | R45: 0 | S45: 0 | T45: 0 | U45: 0 | V45: 0 | W45: 0
B46: 13 | C46: 4.1.1.3 | D46: Impuestos Sobre la Producción, el Consumo y las Transacciones | F46: =SUM(L46:W46) -> 0 | H46: =SUM(L46:O46) -> 0 | J46: =SUM(P46:W46) -> 0 | L46: 0 | M46: 0 | N46: 0 | O46: 0 | P46: 0 | Q46: 0 | R46: 0 | S46: 0 | T46: 0 | U46: 0 | V46: 0 | W46: 0
B47: 14 | C47: 4.1.1.4 | D47: Impuestos al Comercio Exterior | F47: =SUM(L47:W47) -> 0 | H47: =SUM(L47:O47) -> 0 | J47: =SUM(P47:W47) -> 0 | L47: 0 | M47: 0 | N47: 0 | O47: 0 | P47: 0 | Q47: 0 | R47: 0 | S47: 0 | T47: 0 | U47: 0 | V47: 0 | W47: 0
B48: 15 | C48: 4.1.1.5 | D48: Impuestos Sobre Nóminas y Asimilables | F48: =SUM(L48:W48) -> 0 | H48: =SUM(L48:O48) -> 0 | J48: =SUM(P48:W48) -> 0 | L48: 0 | M48: 0 | N48: 0 | O48: 0 | P48: 0 | Q48: 0 | R48: 0 | S48: 0 | T48: 0 | U48: 0 | V48: 0 | W48: 0
B49: 16 | C49: 4.1.1.6 | D49: Impuestos Ecológicos | F49: =SUM(L49:W49) -> 0 | H49: =SUM(L49:O49) -> 0 | J49: =SUM(P49:W49) -> 0 | L49: 0 | M49: 0 | N49: 0 | O49: 0 | P49: 0 | Q49: 0 | R49: 0 | S49: 0 | T49: 0 | U49: 0 | V49: 0 | W49: 0
...

Sheet I06.1+200 MIL HAB  LDF
A8: I06.1 - PROYECCIONES DE INGRESOS - LDF Municipios con mas de 200 mil Habitantes (de acuerdo al último dato del INEGI)
E10: Clave Geográfica:
E12: Fecha de elaboración:
B14: Concepto | C14: 2026 (del Proyecto de Ley) | D14: 2027 | E14: 2028 | F14: 2029
C15: (de Iniciativa de Ley)
B16: 1. Ingresos de Libre Disposición (1=A+B+C+D+E+F+G+H+I+J+K+L) | C16: =SUM(C17,C18,C19,C20,C21,C22,C23,C24,C25,C26,C27,C28) -> 24761117 | D16: =SUM(D17,D18,D19,D20,D21,D22,D23,D24,D25,D26,D27,D28) -> 0 | E16: =SUM(E17,E18,E19,E20,E21,E22,E23,E24,E25,E26,E27,E28) -> 0 | F16: =SUM(F17,F18,F19,F20,F21,F22,F23,F24,F25,F26,F27,F28) -> 0
B17: A. Impuestos | C17: ='I01'!F18 -> 1227244.1
B18: B. Cuotas y Aportaciones de Seguridad Social | C18: ='I01'!F38 -> 0
B19: C. Contribuciones de Mejoras | C19: ='I01'!F45 -> 0
B20: D. Derechos | C20: ='I01'!F52 -> 924824.75
B21: E. Productos | C21: ='I01'!F78 -> 139736.76
B22: F. Aprovechamientos | C22: ='I01'!F89 -> 0
B23: G. Ingresos por Venta de Bienes, Prestación de Servicios y Otros Ingresos | C23: ='I01'!F101 -> 179628.92
B24: H. Participaciones | C24: ='I01'!F129 -> 22289683
B25: I. Incentivos Derivados de la Colaboración Fiscal | C25: ='I01'!F136 -> 0
B26: J. Transferencias | C26: ='I01'!E144+'I01'!F164 -> 0
B27: K. Convenios
B28: L. Otros Ingresos de Libre Disposición | C28: ='I01'!E151+'I01'!E158 -> 0
B30: 2. Transferencias Federales Etiquetadas (2=A+B+C+D+E) | C30: =SUM(C31,C32,C33,C34,C35) -> 15584728 | D30: =SUM(D31,D32,D33,D34,D35) -> 0 | E30: =SUM(E31,E32,E33,E34,E35) -> 0 | F30: 0
B31: A. Aportaciones | C31: ='I01'!F132 -> 15546466
B32: B. Convenios | C32: ='I01'!F134 -> 0
B33: C. Fondos Distintos de Aportaciones | C33: ='I01'!F138 -> 38262.17
B34: D. Transferencias, Subsidios y Subvenciones, y Pensiones y Jubilaciones | C34: ='I01'!E147+'I01'!E154+'I01'!E161 -> 0
B35: E. Otras Transferencias Federales Etiquetadas
B37: 3. Ingresos Derivados de Financiamientos (3=A) | C37: =SUM(C38) -> 0 | D37: =SUM(D38) -> 0 | E37: =SUM(E38) -> 0 | F37: 0
B38: A. Ingresos Derivados de Financiamientos | C38: ='I01'!F170 -> 0
B40: 4. Total de Ingresos Proyectados (4=1+2+3) | C40: =C16+C30+C37 -> 40345845 | D40: =D16+D30+D37 -> 0 | E40: =E16+E30+E37 -> 0 | F40: 0
B42: Datos Informativos
B43: 1. Ingresos Derivados de Financiamientos con Fuente de Pago de Recursos de Libre Disposición | C43: 0
B44: 2. Ingresos derivados de Financiamientos con Fuente de Pago de Transferencias Federales Etiquetadas | C44: 0
B45: 3. Ingresos Derivados de Financiamiento (3 = 1 + 2) | C45: =SUM(C43+C44) -> 0 | D45: {=(D43:D44)} -> 0 | E45: {=(E43:E44)} -> 0 | F45: {=(F43:F44)} -> 0
D46: 0 | E46: 0 | F46: 0
A56: COMISIÓN DE HACIENDA Y PATRIMONIO MUNICIPAL

Sheet I06.2-200 MIL HAB LDF
A8: I06.02 - PROYECCIONES DE INGRESOS - LDF Municipios con menos de 200 mil Habitantes (de acuerdo al último dato del INEGI)
C10: Clave Geográfica: | D10: 139
C12: Fecha de elaboración: | D12: 45915
B14: Concepto | C14: 2026 (del Proyecto de Ley) | D14: 2027
C15: (de Iniciativa de Ley)
B16: 1. Ingresos de Libre Disposición (1=A+B+C+D+E+F+G+H+I+J+K+L) | C16: =SUM(C17,C18,C19,C20,C21,C22,C23,C24,C25,C26,C27,C28) -> 24761117 | D16: =SUM(D17,D18,D19,D20,D21,D22,D23,D24,D25,D26,D27,D28) -> 25999173
B17: A. Impuestos | C17: ='I01'!F18 -> 1227244.1 | D17: =(C17*0.05)+C17 -> 1288606.3
B18: B. Cuotas y Aportaciones de Seguridad Social | C18: ='I01'!F38 -> 0 | D18: =(C18*0.05)+C18 -> 0
B19: C. Contribuciones de Mejoras | C19: ='I01'!F45 -> 0 | D19: =(C19*0.05)+C19 -> 0
B20: D. Derechos | C20: ='I01'!F52 -> 924824.75 | D20: =(C20*0.05)+C20 -> 971065.99
B21: E. Productos | C21: ='I01'!F78 -> 139736.76 | D21: =(C21*0.05)+C21 -> 146723.6
B22: F. Aprovechamientos | C22: ='I01'!F89 -> 0 | D22: =(C22*0.05)+C22 -> 0
B23: G. Ingresos por Venta de Bienes, Prestación de Servicios y Otros Ingresos | C23: ='I01'!F101 -> 179628.92 | D23: =(C23*0.05)+C23 -> 188610.37
B24: H. Participaciones | C24: ='I01'!F129 -> 22289683 | D24: =(C24*0.05)+C24 -> 23404167
B25: I. Incentivos Derivados de la Colaboración Fiscal | C25: ='I01'!F136 -> 0 | D25: =(C25*0.05)+C25 -> 0
B26: J. Transferencias | C26: ='I01'!E144+'I01'!F164 -> 0 | D26: =(C26*0.05)+C26 -> 0
B27: K. Convenios | C27: 0 | D27: =(C27*0.05)+C27 -> 0
B28: L. Otros Ingresos de Libre Disposición | C28: ='I01'!E151+'I01'!E158 -> 0 | D28: =(C28*0.05)+C28 -> 0
B30: 2. Transferencias Federales Etiquetadas (2=A+B+C+D+E) | C30: =SUM(C31,C32,C33,C34,C35) -> 15584728 | D30: =SUM(D31,D32,D33,D34,D35) -> 16363965
B31: A. Aportaciones | C31: ='I01'!F132 -> 15546466 | D31: =(C31*0.05)+C31 -> 16323789
B32: B. Convenios | C32: ='I01'!F134 -> 0 | D32: =(C32*0.05)+C32 -> 0
B33: C. Fondos Distintos de Aportaciones | C33: ='I01'!F138 -> 38262.17 | D33: =(C33*0.05)+C33 -> 40175.279
B34: D. Transferencias, Subsidios y Subvenciones, y Pensiones y Jubilaciones | C34: ='I01'!E147+'I01'!E154+'I01'!E161 -> 0 | D34: =(C34*0.05)+C34 -> 0
B35: E. Otras Transferencias Federales Etiquetadas | C35: 0
B37: 3. Ingresos Derivados de Financiamientos (3=A) | C37: =SUM(C38) -> 0 | D37: =SUM(D38) -> 0
B38: A. Ingresos Derivados de Financiamientos | C38: ='I01'!F170 -> 0
B40: 4. Total de Ingresos Proyectados (4=1+2+3) | C40: =C16+C30+C37 -> 40345845 | D40: =D16+D30+D37 -> 42363138
B42: Datos Informativos
B43: 1. Ingresos Derivados de Financiamientos con Fuente de Pago de Recursos de Libre Disposición
B44: 2. Ingresos derivados de Financiamientos con Fuente de Pago de Transferencias Federales Etiquetadas
B45: 3. Ingresos Derivados de Financiamiento (3 = 1 + 2) | C45: {=(C43:C44)} -> 0 | D45: {=(D43:D44)} -> 0
C46: 0 | D46: 0
A56: COMISIÓN DE HACIENDA Y PATRIMONIO MUNICIPAL

Sheet I07.1+200 MIL HAB LDF
B8: I07.1 - RESULTADOS DE INGRESOS - LDF Municipios con mas de 200 mil Habitantes (de acuerdo al último dato del INEGI)
E10: Clave Geográfica:
E12: Fecha de elaboración:
B14: Concepto | C14: 2022 | D14: 2023 | E14: 2024 | F14: 2025
B15: 1. Ingresos de Libre Disposición (1=A+B+C+D+E+F+G+H+I+J+K+L) | C15: =SUM(C16:C27) -> 0 | D15: =SUM(D16:D27) -> 0 | E15: =SUM(E16:E27) -> 0 | F15: =SUM(F16:F27) -> 0
B16: A. Impuestos
B17: B. Cuotas y Aportaciones de Seguridad Social
B18: C. Contribuciones de Mejoras
B19: D. Derechos
B20: E. Productos
B21: F. Aprovechamientos
B22: G. Ingresos por Venta de Bienes, Prestación de Servicios y Otros Ingresos
B23: H. Participaciones
B24: I. Incentivos Derivados de la Colaboración Fiscal
B25: J. Transferencias
B26: K. Convenios
B27: L. Otros Ingresos de Libre Disposición
B28: .
B29: 2. Transferencias Federales Etiquetadas (2=A+B+C+D+E) | C29: =SUM(C30:C34) -> 0 | D29: =SUM(D30:D34) -> 0 | E29: =SUM(E30:E34) -> 0 | F29: =SUM(F30:F34) -> 0
B30: A. Aportaciones
B31: B. Convenios
B32: C. Fondos Distintos de Aportaciones
B33: D. Transferencias, Subsidios y Subvenciones, y Pensiones y Jubilaciones
B34: E. Otras Transferencias Federales Etiquetadas
B35: .
B36: 3. Ingresos Derivados de Financiamientos (3=A) | C36: =SUM(C37) -> 0 | D36: =SUM(D37) -> 0 | E36: =SUM(E37) -> 0 | F36: =SUM(F37) -> 0
B37: A. Ingresos Derivados de Financiamientos
B39: 4. Total de Resultados de Ingresos (4=1+2+3) | C39: =+C15+C29+C36 -> 0 | D39: =+D15+D29+D36 -> 0 | E39: =+E15+E29+E36 -> 0 | F39: =+F15+F29+F36 -> 0
B41: Datos Informativos
B42: 1. Ingresos Derivados de Financiamientos con Fuente de Pago de Recursos de Libre Disposición
B43: 2. Ingresos derivados de Financiamientos con Fuente de Pago de Transferencias Federales Etiquetadas
B44: 3. Ingresos Derivados de Financiamiento (3 = 1 + 2) | C44: {=(C42:C43)} -> 0 | D44: {=(D42:D43)} -> 0 | E44: {=(E42:E43)} -> 0 | F44: {=(F42:F43)} -> 0
C45: 0 | D45: 0 | E45: 0 | F45: 0
A54: COMISIÓN DE HACIENDA Y PATRIMONIO MUNICIPAL

Sheet I07.2-200 MIL HAB LDF
B8: I07.2 - RESULTADOS DE INGRESOS - LDF Municipios con mas de 200 mil Habitantes (de acuerdo al último dato del INEGI)
C10: Clave Geográfica: | D10: 30
C12: Fecha de elaboración: | D12: 45915
B14: Concepto | C14: 2024 | D14: 2025
B15: 1. Ingresos de Libre Disposición (1=A+B+C+D+E+F+G+H+I+J+K+L) | C15: =SUM(C16:C27) -> 0 | D15: =SUM(D16:D27) -> 0
B16: A. Impuestos
B17: B. Cuotas y Aportaciones de Seguridad Social
B18: C. Contribuciones de Mejoras
B19: D. Derechos
B20: E. Productos
B21: F. Aprovechamientos
B22: G. Ingresos por Venta de Bienes, Prestación de Servicios y Otros Ingresos
B23: H. Participaciones
B24: I. Incentivos Derivados de la Colaboración Fiscal
B25: J. Transferencias
B26: K. Convenios
B27: L. Otros Ingresos de Libre Disposición
B28: .
B29: 2. Transferencias Federales Etiquetadas (2=A+B+C+D+E) | C29: =SUM(C30:C34) -> 0 | D29: =SUM(D30:D34) -> 0
B30: A. Aportaciones
B31: B. Convenios
B32: C. Fondos Distintos de Aportaciones
B33: D. Transferencias, Subsidios y Subvenciones, y Pensiones y Jubilaciones
B34: E. Otras Transferencias Federales Etiquetadas
B35: .
B36: 3. Ingresos Derivados de Financiamientos (3=A) | C36: =SUM(C37) -> 0 | D36: =SUM(D37) -> 0
B37: A. Ingresos Derivados de Financiamientos
B39: 4. Total de Resultados de Ingresos (4=1+2+3) | C39: =+C15+C29+C36 -> 0 | D39: =+D15+D29+D36 -> 0
B41: Datos Informativos
B42: 1. Ingresos Derivados de Financiamientos con Fuente de Pago de Recursos de Libre Disposición
B43: 2. Ingresos derivados de Financiamientos con Fuente de Pago de Transferencias Federales Etiquetadas
B44: 3. Ingresos Derivados de Financiamiento (3 = 1 + 2) | C44: {=(C42:C43)} -> 0 | D44: {=(D42:D43)} -> 0
C45: 0 | D45: 0
A55: COMISIÓN DE HACIENDA Y PATRIMONIO MUNICIPAL
